BEGIN:VCALENDAR
VERSION:2.0
PRODID:-//Madison Sports Hall of Fame Club - ECPv6.15.20//NONSGML v1.0//EN
CALSCALE:GREGORIAN
METHOD:PUBLISH
X-ORIGINAL-URL:https://madisonsportshalloffame.org
X-WR-CALDESC:Events for Madison Sports Hall of Fame Club
REFRESH-INTERVAL;VALUE=DURATION:PT1H
X-Robots-Tag:noindex
X-PUBLISHED-TTL:PT1H
BEGIN:VTIMEZONE
TZID:America/Chicago
BEGIN:DAYLIGHT
TZOFFSETFROM:-0600
TZOFFSETTO:-0500
TZNAME:CDT
DTSTART:20250309T080000
END:DAYLIGHT
BEGIN:STANDARD
TZOFFSETFROM:-0500
TZOFFSETTO:-0600
TZNAME:CST
DTSTART:20251102T070000
END:STANDARD
BEGIN:DAYLIGHT
TZOFFSETFROM:-0600
TZOFFSETTO:-0500
TZNAME:CDT
DTSTART:20260308T080000
END:DAYLIGHT
BEGIN:STANDARD
TZOFFSETFROM:-0500
TZOFFSETTO:-0600
TZNAME:CST
DTSTART:20261101T070000
END:STANDARD
BEGIN:DAYLIGHT
TZOFFSETFROM:-0600
TZOFFSETTO:-0500
TZNAME:CDT
DTSTART:20270314T080000
END:DAYLIGHT
BEGIN:STANDARD
TZOFFSETFROM:-0500
TZOFFSETTO:-0600
TZNAME:CST
DTSTART:20271107T070000
END:STANDARD
END:VTIMEZONE
BEGIN:VEVENT
DTSTART;TZID=America/Chicago:20260505T113000
DTEND;TZID=America/Chicago:20260505T130000
DTSTAMP:20260425T134907
CREATED:20260420T235724Z
LAST-MODIFIED:20260420T235724Z
UID:11300-1777980600-1777986000@madisonsportshalloffame.org
SUMMARY:Molly Brown
DESCRIPTION:From the Jim\, Matt & Molly Show ESPN 100.5
URL:https://madisonsportshalloffame.org/event/molly-brown/
LOCATION:Schwoegler’s Park Towne Lanes\, 444 Grand Canyon\, Madison\, WI\, 53705
END:VEVENT
END:VCALENDAR